BEGIN:VCALENDAR
VERSION:2.0
PRODID:-//Library Market//iCal Export//EN
BEGIN:VEVENT
SUMMARY:Story Time
UID:2683
DTSTAMP:20260425T132300Z
DTSTART:20260602T140000Z
DTEND:20260602T144500Z
LOCATION:100 W Dover St, Easton, MD 21601, United States
ROOM: Children&#039;s Room
DESCRIPTION:For children ages birth - 5 years accompanied with an adult. 
 Stories, songs and rhymes.No registration necessary.
URL:https://talbot.librarycalendar.com/event/story-time-2683
END:VEVENT
END:VCALENDAR
