BEGIN:VCALENDAR
VERSION:2.0
PRODID:-//Library Market//iCal Export//EN
BEGIN:VEVENT
SUMMARY:Both branches of the library closed July 4th
UID:2679
DTSTAMP:20260426T041500Z
DTSTART:20260704T130000Z
DTEND:20260704T210000Z
LOCATION:100 W Dover St, Easton, MD 21601, United States
ROOM: Both branches of the library closed July 4th
DESCRIPTION:Both the Easton library and St. Michaels library will be close
 d for the July 4th holiday.  
URL:https://talbot.librarycalendar.com/event/both-branches-library-closed-
 july-4th-2679
END:VEVENT
END:VCALENDAR
