BEGIN:VCALENDAR
VERSION:2.0
PRODID:-//Library Market//iCal Export//EN
BEGIN:VEVENT
SUMMARY:STEAM Storytime
UID:2668
DTSTAMP:20260421T170000Z
DTSTART:20260509T140000Z
DTEND:20260509T150000Z
LOCATION:100 W Dover St, Easton, MD 21601, United States
ROOM: Children&#039;s Room
DESCRIPTION:Join us Saturday at 10am for STEAM story time!  For children 
 ages 2-5. Engaging and interactive story time with a focus on science.
URL:https://talbot.librarycalendar.com/event/copy-steam-storytime-2668
END:VEVENT
END:VCALENDAR
