BEGIN:VCALENDAR
VERSION:2.0
PRODID:-//Library Market//iCal Export//EN
BEGIN:VEVENT
SUMMARY:Both Branches Closed for Juneteenth Holiday
UID:2665
DTSTAMP:20260425T132300Z
DTSTART:20260619T130000Z
DTEND:20260619T210000Z
LOCATION:100 W Dover St, Easton, MD 21601, United States
ROOM: Both Branches Closed for Juneteenth Holiday
DESCRIPTION:Both the Easton library and St. Michaels library will be close
 d for the Juneteenth holiday.  
URL:https://talbot.librarycalendar.com/event/both-branches-closed-juneteen
 th-holiday-2665
END:VEVENT
END:VCALENDAR
