BEGIN:VCALENDAR
VERSION:2.0
PRODID:-//Library Market//iCal Export//EN
BEGIN:VEVENT
SUMMARY:Rope Warrior!
UID:2454
DTSTAMP:20260426T041500Z
DTSTART:20260730T143000Z
DTEND:20260730T153000Z
LOCATION:106 Fremont Street, St. Michaels, MD 21663, United States
ROOM: Meeting Room
DESCRIPTION:Join us for this interactive and entertaining jump rope show, 
 presented by a Guinness World Record holder!
URL:https://talbot.librarycalendar.com/event/rope-warrior-2454
END:VEVENT
END:VCALENDAR
