BEGIN:VCALENDAR
VERSION:2.0
PRODID:-//Library Market//iCal Export//EN
BEGIN:VEVENT
SUMMARY:Reptile Wonders
UID:2452
DTSTAMP:20260426T025500Z
DTSTART:20260720T180000Z
DTEND:20260720T190000Z
LOCATION:106 Fremont Street, St. Michaels, MD 21663, United States
ROOM: Meeting Room
DESCRIPTION:Fun for all ages. Meet reptiles! Interactive and engaging.
URL:https://talbot.librarycalendar.com/event/reptile-wonders-2452
END:VEVENT
END:VCALENDAR
