BEGIN:VCALENDAR
VERSION:2.0
PRODID:-//Library Market//iCal Export//EN
BEGIN:VEVENT
SUMMARY:Cascading Carlos
UID:2450
DTSTAMP:20260425T132300Z
DTSTART:20260630T140000Z
DTEND:20260630T150000Z
LOCATION:100 W Dover St, Easton, MD 21601, United States
ROOM: Meeting Room
DESCRIPTION:Fun for all ages! Join us for a fabulous juggling show and lea
 rn how to juggle too!
URL:https://talbot.librarycalendar.com/event/cascading-carlos-2450
END:VEVENT
END:VCALENDAR
